BEGIN:VCALENDAR
VERSION:2.0
PRODID:-//eventon.com NONSGML v1.0//EN
CALSCALE:GREGORIAN
METHOD:PUBLISH
BEGIN:VEVENT
UID:69e9d2a8c5fa7
DTSTAMP:20260423T080456Z
DTSTART:20190705T090000Z
DTEND:20190705T130000Z
LOCATION:Sede Agua de Coco Granada. Calle Acera del Darro 6 3ºA
SUMMARY:Formación Voluntariado Granada
DESCRIPTION:Formación acogida de voluntariado Granada. El voluntariado en 
 Agua de Coco es uno de nuestros pilares básicos. Por eso estamos deseando 
 acoger a todas aquellas personas que quieran unirse a Agua de Coco. Para el
 lo lo primero y más importante es conocernos mejor. A todas las personas i
 nteresadas en formar[..]\nhttps://aguadecoco.org/eventos/formacion-voluntar
 iado-granada-2/
URL:https://aguadecoco.org/eventos/formacion-voluntariado-granada-2/
END:VEVENT
END:VCALENDAR