BEGIN:VCALENDAR
VERSION:2.0
PRODID:-//eventon.com NONSGML v1.0//EN
CALSCALE:GREGORIAN
METHOD:PUBLISH
BEGIN:VEVENT
UID:69e601ca81b31
DTSTAMP:20260420T103658Z
DTSTART:20181227T000000Z
DTEND:20181227T235900Z
LOCATION:La Llum Basket Club
SUMMARY:Torneo de baloncesto navideño en Xirivella (Valencia)
DESCRIPTION:Organizamos un torneo de baloncesto navideño en Xirivella Val
 encia con el Club de Baloncesto La Llum. Como club invitado tendremos al C
 lub de Baloncesto Eliseo Vidal. Será un día deportivo/solidario en torno 
 al baloncesto y Agua de Coco. Pero no será un torneo competitivo sino de 
 hermanamiento” entre clubs y con un[..]\nhttps://aguadecoco.org/eventos
 /torneo-de-baloncesto-navideno-en-xirivella-valencia/
URL:https://aguadecoco.org/eventos/torneo-de-baloncesto-navideno-en-xirivella-valencia/
END:VEVENT
END:VCALENDAR