BEGIN:VCALENDAR
VERSION:2.0
PRODID:-//eventon.com NONSGML v1.0//EN
CALSCALE:GREGORIAN
METHOD:PUBLISH
BEGIN:VEVENT
UID:69e61586ac387
DTSTAMP:20260420T120110Z
DTSTART:20190517T160000Z
DTEND:20190519T220000Z
LOCATION:Real Club De Golf La Herrería Ctra Robledo\,  de Chavela\,  s/n\,  28200 San Lorenzo de El Escorial\,  Madrid
SUMMARY:Torneo de pádel en el Espacio Herrería\,  San Lorenzo de El Escorial\,  Madrid
DESCRIPTION:Agua de Coco estará los próximos 17\,  18 y 19 de mayo en un 
 torneo de pádel con el que ayudarás a recaudar fondos para los proyectos 
 de Escuela de Zafiros\,  Granja Escuela de Fianarantsoa y lucha contra l
 a malnutrición. El evento se desarrollará en uno de los lugares más priv
 ilegiados de San[..]\nhttps://aguadecoco.org/eventos/torneo-de-padel-en-el-
 espacio-herreria-madrid/
URL:https://aguadecoco.org/eventos/torneo-de-padel-en-el-espacio-herreria-madrid/
END:VEVENT
END:VCALENDAR