BEGIN:VCALENDAR
VERSION:2.0
PRODID:-//eventon.com NONSGML v1.0//EN
CALSCALE:GREGORIAN
METHOD:PUBLISH
BEGIN:VEVENT
UID:69e8eb9d02d1a
DTSTAMP:20260422T153909Z
DTSTART:20260501T230000Z
DTEND:20260502T070000Z
LOCATION:Casa de la Juventud de Benalúa Granada Cam. de San Torcuato\,  6\,  18510 Benalúa\,  Granada
SUMMARY:Primero de Mayo Solidario en Benalúa Granada
DESCRIPTION:El Primero de mayo en Benalúa vuelve una vez más. Este año s
 erá el viernes 1 de Mayo junto con la celebracion de la curz de mayo. Grac
 ias a la invitación que recibimos todos los años del pueblo de Benalúa e
 n Granada. Vamos a participar en su fiesta más comprometida:[..]\nhttps://
 aguadecoco.org/eventos/primero-de-mayo-en-benalua-granada-4/
URL:https://aguadecoco.org/eventos/primero-de-mayo-en-benalua-granada-4/
END:VEVENT
END:VCALENDAR