BEGIN:VCALENDAR
VERSION:2.0
PRODID:-//eventon.com NONSGML v1.0//EN
CALSCALE:GREGORIAN
METHOD:PUBLISH
BEGIN:VEVENT
UID:69e906d86a4d8
DTSTAMP:20260422T173520Z
DTSTART:20260423T190000Z
DTEND:20260423T203000Z
LOCATION:Auditorio Caja Rural de Granada Av. Don Bosco\,  2\,  Zaidín\,  18006 Granada
SUMMARY:Segundo encuentro coral en Granada
DESCRIPTION:Disfruta de una tarde musical especial el próximo 23 de abril\
 ,  donde el canto coral será el gran protagonista. Dos formaciones ofrecer
 án un recorrido por un repertorio cuidadosamente seleccionado que combina 
 tradición\,  sensibilidad y riqueza cultural. La Coral San Miguel Arcánge
 l interpretará piezas como Canción galante de V. Ruiz Aznar\, [..]\nhttps
 ://aguadecoco.org/eventos/segundo-encuentro-coral-en-granada/
URL:https://aguadecoco.org/eventos/segundo-encuentro-coral-en-granada/
END:VEVENT
END:VCALENDAR