BEGIN:VCALENDAR
VERSION:2.0
PRODID:-//eventon.com NONSGML v1.0//EN
CALSCALE:GREGORIAN
METHOD:PUBLISH
BEGIN:VEVENT
UID:69e9046303a07
DTSTAMP:20260422T172451Z
DTSTART:20260423T180000Z
DTEND:20260430T180000Z
LOCATION:
SUMMARY:“Cuentos de Madagascar” exposición\,  taller y cuentacuentos para el Día del Libro en Alcobendas
DESCRIPTION:Del 23 al 30 de abril\,  el Centro Cultural Pablo Iglesias de A
 lcobendas acoge la propuesta “Cuentos de Madagascar”\,  una iniciativa 
 cultural que combina fotografía\,  bordado y narración oral para visibili
 zar las historias y la creatividad de niñas malgaches. La programación ar
 ranca el 23 de abril\,  coincidiendo con el Día[..]\nhttps://aguadecoco.or
 g/eventos/cuentos-de-madagascar-exposicion-taller-y-cuentacuentos-para-el-d
 ia-del-libro-en-alcobendas/
URL:https://aguadecoco.org/eventos/cuentos-de-madagascar-exposicion-taller-y-cuentacuentos-para-el-dia-del-libro-en-alcobendas/
END:VEVENT
END:VCALENDAR