BEGIN:VCALENDAR
VERSION:2.0
PRODID:-//eventon.com NONSGML v1.0//EN
CALSCALE:GREGORIAN
METHOD:PUBLISH
BEGIN:VEVENT
UID:69e9d3ce0822b
DTSTAMP:20260423T080950Z
DTSTART:20240501T230000Z
DTEND:20240502T070000Z
LOCATION:Calle Azucarera 12\,  Benalúa Granada C. Azucarera\,  12\,  18510 Benalúa\,  Granada
SUMMARY:Cruz de Mayo Solidaria en Benalúa Granada
DESCRIPTION:El Primero de mayo en Benalúa vuelve una vez más la fiesta so
 lidaria del 1 de mayo\,  este año con una Cruz de mayo Solidaria. Gracias 
 a la invitación que recibimos todos los años del pueblo de Benalúa en Gr
 anada. Vamos a participar en su fiesta más comprometida: el Primero[..]\nh
 ttps://aguadecoco.org/eventos/cruz-de-mayo-en-benalua-granada/
URL:https://aguadecoco.org/eventos/cruz-de-mayo-en-benalua-granada/
END:VEVENT
END:VCALENDAR