BEGIN:VCALENDAR
VERSION:2.0
PRODID:-//eventon.com NONSGML v1.0//EN
CALSCALE:GREGORIAN
METHOD:PUBLISH
BEGIN:VEVENT
UID:69e639908ee93
DTSTAMP:20260420T143456Z
DTSTART:20231124T210000Z
DTEND:20231126T070000Z
LOCATION:Centro de Exposiciones\,  Ferias y Convenciones de Córdoba (CEFC)\,  Avenida de la Fábrica\,  Córdoba Av. de la Fábrica\,  14005 Córdoba
SUMMARY:XVIII Congreso Andaluz de Veterinarios “Especialistas en Animales de Compañía” Córdoba
DESCRIPTION:Participamos en el  XVIII Congreso Andaluz de Veterinarios\,  
 “Especialistas en Animales de Compañía”\,  que se celebrará este añ
 o en la ciudad de Córdoba. Pondremos una mesa de información venta de art
 esanía y lotería de navidad. Gracias al colegio de veterinarios y la espe
 cial vinculación que tememos al ser Jose Luis[..]\nhttps://aguadecoco.org/
 eventos/xviii-congreso-andaluz-de-veterinarios-especialistas-en-animales-de
 -compania-cordoba/
URL:https://aguadecoco.org/eventos/xviii-congreso-andaluz-de-veterinarios-especialistas-en-animales-de-compania-cordoba/
END:VEVENT
END:VCALENDAR