BEGIN:VCALENDAR
VERSION:2.0
PRODID:-//eventon.com NONSGML v1.0//EN
CALSCALE:GREGORIAN
METHOD:PUBLISH
BEGIN:VEVENT
UID:69e615e918397
DTSTAMP:20260420T120249Z
DTSTART:20221014T210000Z
DTEND:20221015T050000Z
LOCATION:Pabellón INACUA Avenida Federico García Lorca\,  s/n 18014.
SUMMARY:II Feria del  Voluntariado de Granada Social
DESCRIPTION:Participamos en Ia «II Feria del  Voluntariado de Granada Soc
 ial». Seremos más de 40 organizaciones y estamos seguras de que será un 
 evento muy especial. La cita es el viernes a las 9.30 en el pabellón de In
 acua Antonio Prieto\,  que está en la Avenida Federico García Lorca\,  s/
 n 18014. Os[..]\nhttps://aguadecoco.org/eventos/ii-feria-del-voluntariado-
 de-granada-social/
URL:https://aguadecoco.org/eventos/ii-feria-del-voluntariado-de-granada-social/
END:VEVENT
END:VCALENDAR