BEGIN:VCALENDAR
VERSION:2.0
PRODID:-//eventon.com NONSGML v1.0//EN
CALSCALE:GREGORIAN
METHOD:PUBLISH
BEGIN:VEVENT
UID:69e9e6acafc4e
DTSTAMP:20260423T093020Z
DTSTART:20191127T093000Z
DTEND:20191127T150000Z
LOCATION:Edificio IBM patio interior Hortensia\,  26-28. Madrid
SUMMARY:XIII Jornada de Comercio Solidario en IBM
DESCRIPTION:Estaremos en la XIII Jornada de Comercio Solidario en IBM\,  do
 nde daremos a conocer nuestros proyectos y vender los productos solidarios 
 que tenemos preparados para estas navidades al personal de IBM. En esta oca
 sión tendrá lugar el Miércoles 27 de Noviembre de 9:30 a 15:00 horas. El
  evento tendrá lugar[..]\nhttps://aguadecoco.org/eventos/xiii-jornada-de-c
 omercio-solidario-en-ibm/
URL:https://aguadecoco.org/eventos/xiii-jornada-de-comercio-solidario-en-ibm/
END:VEVENT
END:VCALENDAR