BEGIN:VCALENDAR
VERSION:2.0
PRODID:-//eventon.com NONSGML v1.0//EN
CALSCALE:GREGORIAN
METHOD:PUBLISH
BEGIN:VEVENT
UID:69e9d3d09c123
DTSTAMP:20260423T080952Z
DTSTART:20190921T133000Z
DTEND:20190921T235000Z
LOCATION:EL naranja cafe San Vicente Ferrer\,  53 - Madrid
SUMMARY:Aperitivo Solidario
DESCRIPTION:¡Te invitamos a un aperitivo solidario! ¿Realizas algún volu
 ntariado en Agua de Coco\,  has visitado alguno de los proyectos que realiz
 amos en Madagascar o Camboya\,  o simplemente te gusta lo que hacemos?  El
  próximo 21 de septiembre ¡queremos que nos acompañes a celebrar el 25 a
 niversario de Agua de Coco[..]\nhttps://aguadecoco.org/eventos/aperitivo-so
 lidario/
URL:https://aguadecoco.org/eventos/aperitivo-solidario/
END:VEVENT
END:VCALENDAR